BEGIN:VCALENDAR
VERSION:2.0
PRODID:-//CAEN Technologies - ECPv6.15.11//NONSGML v1.0//EN
CALSCALE:GREGORIAN
METHOD:PUBLISH
X-WR-CALNAME:CAEN Technologies
X-ORIGINAL-URL:https://caentechnologies.com
X-WR-CALDESC:Events for CAEN Technologies
REFRESH-INTERVAL;VALUE=DURATION:PT1H
X-Robots-Tag:noindex
X-PUBLISHED-TTL:PT1H
BEGIN:VTIMEZONE
TZID:UTC
BEGIN:STANDARD
TZOFFSETFROM:+0000
TZOFFSETTO:+0000
TZNAME:UTC
DTSTART:20210101T000000
END:STANDARD
END:VTIMEZONE
BEGIN:VEVENT
DTSTART;TZID=UTC:20220530T080000
DTEND;TZID=UTC:20220605T170000
DTSTAMP:20260422T115552
CREATED:20211210T155847Z
LAST-MODIFIED:20211210T160145Z
UID:1869-1653897600-1654448400@caentechnologies.com
SUMMARY:14th Conference on the Intersections of Particle and Nuclear Physics (CIPANP 2022)
DESCRIPTION:CIPANP is a conference series designed to explore common areas of interest to scientists working in elementary particle physics\, nuclear physics\, nuclear and particle astrophysics\, and cosmology. Topics include research focused on the study of fundamental interactions\, elementary particles\, nucleons and nuclei\, astrophysical phenomena\, and cosmic rays. In many cases\, these distinct areas are attempting to answer the same fundamental questions about our universe.  Experiments in each area typically also require input from the other areas to properly extract and interpret results from their data. CIPANP brings these communities together every three years in a unique setting that fosters collaboration among these scientific disciplines.
URL:https://caentechnologies.com/event/14th-conference-on-the-intersections-of-particle-and-nuclear-physics-cipanp-2022/
LOCATION:Hilton Orlando – Lake Buena Vista Hotel\, 1751 Hotel Plaza Boulevard\, Lake Buena Vista\, FL\, 32830\, United States
CATEGORIES:National
ATTACH;FMTTYPE=image/jpeg:https://caentechnologies.com/wp-content/uploads/2021/12/intersect-conf-w.jpg
END:VEVENT
END:VCALENDAR